BEGIN:VCALENDAR
VERSION:2.0
PRODID:-//AJ La Boisse - ECPv6.15.20//NONSGML v1.0//EN
CALSCALE:GREGORIAN
METHOD:PUBLISH
X-WR-CALNAME:AJ La Boisse
X-ORIGINAL-URL:https://ajlaboisse.fr
X-WR-CALDESC:Évènements pour AJ La Boisse
REFRESH-INTERVAL;VALUE=DURATION:PT1H
X-Robots-Tag:noindex
X-PUBLISHED-TTL:PT1H
BEGIN:VTIMEZONE
TZID:Europe/Paris
BEGIN:DAYLIGHT
TZOFFSETFROM:+0100
TZOFFSETTO:+0200
TZNAME:CEST
DTSTART:20240331T010000
END:DAYLIGHT
BEGIN:STANDARD
TZOFFSETFROM:+0200
TZOFFSETTO:+0100
TZNAME:CET
DTSTART:20241027T010000
END:STANDARD
BEGIN:DAYLIGHT
TZOFFSETFROM:+0100
TZOFFSETTO:+0200
TZNAME:CEST
DTSTART:20250330T010000
END:DAYLIGHT
BEGIN:STANDARD
TZOFFSETFROM:+0200
TZOFFSETTO:+0100
TZNAME:CET
DTSTART:20251026T010000
END:STANDARD
BEGIN:DAYLIGHT
TZOFFSETFROM:+0100
TZOFFSETTO:+0200
TZNAME:CEST
DTSTART:20260329T010000
END:DAYLIGHT
BEGIN:STANDARD
TZOFFSETFROM:+0200
TZOFFSETTO:+0100
TZNAME:CET
DTSTART:20261025T010000
END:STANDARD
END:VTIMEZONE
BEGIN:VEVENT
DTSTART;VALUE=DATE:20250316
DTEND;VALUE=DATE:20250317
DTSTAMP:20260423T083947
CREATED:20240609T191827Z
LAST-MODIFIED:20240609T191827Z
UID:192-1742083200-1742169599@ajlaboisse.fr
SUMMARY:Critérium Fédéral (CF)
DESCRIPTION:Le critérium fédéral est la principale compétition individuelle du tennis de table. Il s’agit d’une compétition où l’on rencontre des adversaires de la même catégorie d’age et du même sexe et dans laquelle on peut monter/descendre de divisions selon les résultats. Les droits pas d’obligation de participation à ces autres épreuves.d’inscription au CF ouvrent droit également à la participation à d’autres compétitions individuelles l’information sera donnée en cours d’année\nAccompagnement sur le lieu de compétition : Parents des joueurs
URL:https://ajlaboisse.fr/event/criterium-federal-cf-4/
ATTACH;FMTTYPE=image/jpeg:https://ajlaboisse.fr/wp-content/uploads/2024/06/service-tennis-de-table.jpg
END:VEVENT
END:VCALENDAR