BEGIN:VCALENDAR
VERSION:2.0
PRODID:-//AJ La Boisse - ECPv6.15.20//NONSGML v1.0//EN
CALSCALE:GREGORIAN
METHOD:PUBLISH
X-WR-CALNAME:AJ La Boisse
X-ORIGINAL-URL:https://ajlaboisse.fr
X-WR-CALDESC:Évènements pour AJ La Boisse
REFRESH-INTERVAL;VALUE=DURATION:PT1H
X-Robots-Tag:noindex
X-PUBLISHED-TTL:PT1H
BEGIN:VTIMEZONE
TZID:Europe/Paris
BEGIN:DAYLIGHT
TZOFFSETFROM:+0100
TZOFFSETTO:+0200
TZNAME:CEST
DTSTART:20240331T010000
END:DAYLIGHT
BEGIN:STANDARD
TZOFFSETFROM:+0200
TZOFFSETTO:+0100
TZNAME:CET
DTSTART:20241027T010000
END:STANDARD
BEGIN:DAYLIGHT
TZOFFSETFROM:+0100
TZOFFSETTO:+0200
TZNAME:CEST
DTSTART:20250330T010000
END:DAYLIGHT
BEGIN:STANDARD
TZOFFSETFROM:+0200
TZOFFSETTO:+0100
TZNAME:CET
DTSTART:20251026T010000
END:STANDARD
BEGIN:DAYLIGHT
TZOFFSETFROM:+0100
TZOFFSETTO:+0200
TZNAME:CEST
DTSTART:20260329T010000
END:DAYLIGHT
BEGIN:STANDARD
TZOFFSETFROM:+0200
TZOFFSETTO:+0100
TZNAME:CET
DTSTART:20261025T010000
END:STANDARD
END:VTIMEZONE
BEGIN:VEVENT
DTSTART;TZID=Europe/Paris:20250405T140000
DTEND;TZID=Europe/Paris:20250405T173000
DTSTAMP:20260423T071630
CREATED:20240610T090925Z
LAST-MODIFIED:20240610T090925Z
UID:239-1743861600-1743874200@ajlaboisse.fr
SUMMARY:CHAMPIONNAT PAR EQUIPE PHASE 2
DESCRIPTION:Le championnat par équipe est une compétition largement ouverte à tous les compétiteurs quels que soient leur âge et leur sexe. \nIl se joue en équipe de 3 ou 4 joueurs selon la division. \nOn joue avant tout pour une équipe et pour un club.
URL:https://ajlaboisse.fr/event/championnat-par-equipe-phase-2-5/
ATTACH;FMTTYPE=image/jpeg:https://ajlaboisse.fr/wp-content/uploads/2024/06/Competition_Chpt-equipe-WE-1.jpg
END:VEVENT
END:VCALENDAR