BEGIN:VCALENDAR
VERSION:2.0
PRODID:-//AJ La Boisse - ECPv6.15.20//NONSGML v1.0//EN
CALSCALE:GREGORIAN
METHOD:PUBLISH
X-ORIGINAL-URL:https://ajlaboisse.fr
X-WR-CALDESC:Évènements pour AJ La Boisse
REFRESH-INTERVAL;VALUE=DURATION:PT1H
X-Robots-Tag:noindex
X-PUBLISHED-TTL:PT1H
BEGIN:VTIMEZONE
TZID:Europe/Paris
BEGIN:DAYLIGHT
TZOFFSETFROM:+0100
TZOFFSETTO:+0200
TZNAME:CEST
DTSTART:20230326T010000
END:DAYLIGHT
BEGIN:STANDARD
TZOFFSETFROM:+0200
TZOFFSETTO:+0100
TZNAME:CET
DTSTART:20231029T010000
END:STANDARD
BEGIN:DAYLIGHT
TZOFFSETFROM:+0100
TZOFFSETTO:+0200
TZNAME:CEST
DTSTART:20240331T010000
END:DAYLIGHT
BEGIN:STANDARD
TZOFFSETFROM:+0200
TZOFFSETTO:+0100
TZNAME:CET
DTSTART:20241027T010000
END:STANDARD
BEGIN:DAYLIGHT
TZOFFSETFROM:+0100
TZOFFSETTO:+0200
TZNAME:CEST
DTSTART:20250330T010000
END:DAYLIGHT
BEGIN:STANDARD
TZOFFSETFROM:+0200
TZOFFSETTO:+0100
TZNAME:CET
DTSTART:20251026T010000
END:STANDARD
END:VTIMEZONE
BEGIN:VEVENT
DTSTART;TZID=Europe/Paris:20241102T140000
DTEND;TZID=Europe/Paris:20241102T173000
DTSTAMP:20260423T125542
CREATED:20240610T085639Z
LAST-MODIFIED:20240610T085639Z
UID:226-1730556000-1730568600@ajlaboisse.fr
SUMMARY:CHAMPIONNAT PAR EQUIPE PHASE 1
DESCRIPTION:Le championnat par équipe est une compétition largement ouverte à tous les compétiteurs quels que soient leur âge et leur sexe. \nIl se joue en équipe de 3 ou 4 joueurs selon la division. \nOn joue avant tout pour une équipe et pour un club.
URL:https://ajlaboisse.fr/event/championnat-par-equipe-phase-1-3/
ATTACH;FMTTYPE=image/jpeg:https://ajlaboisse.fr/wp-content/uploads/2024/06/Competition_Chpt-equipe-WE-1.jpg
END:VEVENT
BEGIN:VEVENT
DTSTART;VALUE=DATE:20241103
DTEND;VALUE=DATE:20241104
DTSTAMP:20260423T125542
CREATED:20240610T091258Z
LAST-MODIFIED:20240610T091346Z
UID:248-1730592000-1730678399@ajlaboisse.fr
SUMMARY:Championnat Jeunes par équipe
DESCRIPTION:Idéale pour découvrir la compétition car accessible avec la licence loisir seulement\, et elle n’engage à chaque fois que pour un seul dimanche. \nLa compétition est mixte et n’est ouverte qu’aux jeunes (sauf juniors). \nAttention\, ces journées de championnat jeunes par équipe sont les dimanches suivant des samedis de championnat par équipe (voir ci-dessus). Il est possible de cumuler les participations aux deux championnats sur un même week-end. \nCette compétition nécessite que l’on puisse constituer des équipes de 3 joueurs et/ou joueuses pour un dimanche donné.
URL:https://ajlaboisse.fr/event/championnat-jeunes-par-equipe/
ATTACH;FMTTYPE=image/jpeg:https://ajlaboisse.fr/wp-content/uploads/2024/06/Competition_CircuitsJeunes-740x337-1.jpg
END:VEVENT
BEGIN:VEVENT
DTSTART;TZID=Europe/Paris:20241116T140000
DTEND;TZID=Europe/Paris:20241116T173000
DTSTAMP:20260423T125542
CREATED:20240610T085708Z
LAST-MODIFIED:20240610T085708Z
UID:225-1731765600-1731778200@ajlaboisse.fr
SUMMARY:CHAMPIONNAT PAR EQUIPE PHASE 1
DESCRIPTION:Le championnat par équipe est une compétition largement ouverte à tous les compétiteurs quels que soient leur âge et leur sexe. \nIl se joue en équipe de 3 ou 4 joueurs selon la division. \nOn joue avant tout pour une équipe et pour un club.
URL:https://ajlaboisse.fr/event/championnat-par-equipe-phase-1-4/
ATTACH;FMTTYPE=image/jpeg:https://ajlaboisse.fr/wp-content/uploads/2024/06/Competition_Chpt-equipe-WE-1.jpg
END:VEVENT
BEGIN:VEVENT
DTSTART;VALUE=DATE:20241124
DTEND;VALUE=DATE:20241125
DTSTAMP:20260423T125542
CREATED:20240609T191717Z
LAST-MODIFIED:20240609T191717Z
UID:194-1732406400-1732492799@ajlaboisse.fr
SUMMARY:Critérium Fédéral (CF)
DESCRIPTION:Le critérium fédéral est la principale compétition individuelle du tennis de table. Il s’agit d’une compétition où l’on rencontre des adversaires de la même catégorie d’age et du même sexe et dans laquelle on peut monter/descendre de divisions selon les résultats. Les droits pas d’obligation de participation à ces autres épreuves.d’inscription au CF ouvrent droit également à la participation à d’autres compétitions individuelles l’information sera donnée en cours d’année\nAccompagnement sur le lieu de compétition : Parents des joueurs
URL:https://ajlaboisse.fr/event/criterium-federal-cf-2/
ATTACH;FMTTYPE=image/jpeg:https://ajlaboisse.fr/wp-content/uploads/2024/06/service-tennis-de-table.jpg
END:VEVENT
BEGIN:VEVENT
DTSTART;TZID=Europe/Paris:20241130T140000
DTEND;TZID=Europe/Paris:20241130T173000
DTSTAMP:20260423T125542
CREATED:20240610T085734Z
LAST-MODIFIED:20240610T090057Z
UID:224-1732975200-1732987800@ajlaboisse.fr
SUMMARY:CHAMPIONNAT PAR EQUIPE PHASE 1
DESCRIPTION:Le championnat par équipe est une compétition largement ouverte à tous les compétiteurs quels que soient leur âge et leur sexe. \nIl se joue en équipe de 3 ou 4 joueurs selon la division. \nOn joue avant tout pour une équipe et pour un club.
URL:https://ajlaboisse.fr/event/championnat-par-equipe-phase-1-5/
ATTACH;FMTTYPE=image/jpeg:https://ajlaboisse.fr/wp-content/uploads/2024/06/Competition_Chpt-equipe-WE-1.jpg
END:VEVENT
END:VCALENDAR