BEGIN:VCALENDAR
VERSION:2.0
PRODID:-//AJ La Boisse - ECPv6.15.20//NONSGML v1.0//EN
CALSCALE:GREGORIAN
METHOD:PUBLISH
X-WR-CALNAME:AJ La Boisse
X-ORIGINAL-URL:https://ajlaboisse.fr
X-WR-CALDESC:Évènements pour AJ La Boisse
REFRESH-INTERVAL;VALUE=DURATION:PT1H
X-Robots-Tag:noindex
X-PUBLISHED-TTL:PT1H
BEGIN:VTIMEZONE
TZID:Europe/Paris
BEGIN:DAYLIGHT
TZOFFSETFROM:+0100
TZOFFSETTO:+0200
TZNAME:CEST
DTSTART:20240331T010000
END:DAYLIGHT
BEGIN:STANDARD
TZOFFSETFROM:+0200
TZOFFSETTO:+0100
TZNAME:CET
DTSTART:20241027T010000
END:STANDARD
BEGIN:DAYLIGHT
TZOFFSETFROM:+0100
TZOFFSETTO:+0200
TZNAME:CEST
DTSTART:20250330T010000
END:DAYLIGHT
BEGIN:STANDARD
TZOFFSETFROM:+0200
TZOFFSETTO:+0100
TZNAME:CET
DTSTART:20251026T010000
END:STANDARD
BEGIN:DAYLIGHT
TZOFFSETFROM:+0100
TZOFFSETTO:+0200
TZNAME:CEST
DTSTART:20260329T010000
END:DAYLIGHT
BEGIN:STANDARD
TZOFFSETFROM:+0200
TZOFFSETTO:+0100
TZNAME:CET
DTSTART:20261025T010000
END:STANDARD
END:VTIMEZONE
BEGIN:VEVENT
DTSTART;TZID=Europe/Paris:20250501T190000
DTEND;TZID=Europe/Paris:20250501T220000
DTSTAMP:20260423T044012
CREATED:20250501T081755Z
LAST-MODIFIED:20260326T071010Z
UID:6197-1746126000-1746136800@ajlaboisse.fr
SUMMARY:Tournoi du 1er Mai
DESCRIPTION:Pour vous inscrire  Créé avec ProTournoi\, logiciel en ligne de gestion de tournois sportifs
URL:https://ajlaboisse.fr/event/tournoi-du-1er-mai/
LOCATION:AJ LA BOISSE\, impasse du grand casset\, La Boisse\, 01120\, France
ATTACH;FMTTYPE=image/webp:https://ajlaboisse.fr/wp-content/uploads/2025/05/tournoi-du-1er-mai.webp
END:VEVENT
BEGIN:VEVENT
DTSTART;TZID=Europe/Paris:20250503T140000
DTEND;TZID=Europe/Paris:20250503T173000
DTSTAMP:20260423T044012
CREATED:20240610T091035Z
LAST-MODIFIED:20240610T091035Z
UID:240-1746280800-1746293400@ajlaboisse.fr
SUMMARY:CHAMPIONNAT PAR EQUIPE PHASE 2
DESCRIPTION:Le championnat par équipe est une compétition largement ouverte à tous les compétiteurs quels que soient leur âge et leur sexe. \nIl se joue en équipe de 3 ou 4 joueurs selon la division. \nOn joue avant tout pour une équipe et pour un club.
URL:https://ajlaboisse.fr/event/championnat-par-equipe-phase-2-6/
ATTACH;FMTTYPE=image/jpeg:https://ajlaboisse.fr/wp-content/uploads/2024/06/Competition_Chpt-equipe-WE-1.jpg
END:VEVENT
BEGIN:VEVENT
DTSTART;TZID=Europe/Paris:20250508T190000
DTEND;TZID=Europe/Paris:20250508T233000
DTSTAMP:20260423T044012
CREATED:20250501T095237Z
LAST-MODIFIED:20260326T071011Z
UID:6236-1746730800-1746747000@ajlaboisse.fr
SUMMARY:TOURNOI DU 8 MAI
DESCRIPTION:Pour vous inscrire  Créé avec ProTournoi\, logiciel en ligne de gestion de tournois sportifs
URL:https://ajlaboisse.fr/event/tournoi-du-8-mai/
LOCATION:AJ LA BOISSE\, impasse du grand casset\, La Boisse\, 01120\, France
ATTACH;FMTTYPE=image/webp:https://ajlaboisse.fr/wp-content/uploads/2025/05/tournoi-du-8-mai.webp
END:VEVENT
BEGIN:VEVENT
DTSTART;TZID=Europe/Paris:20250517T140000
DTEND;TZID=Europe/Paris:20250517T173000
DTSTAMP:20260423T044012
CREATED:20240610T091058Z
LAST-MODIFIED:20240610T091058Z
UID:241-1747490400-1747503000@ajlaboisse.fr
SUMMARY:CHAMPIONNAT PAR EQUIPE PHASE 2
DESCRIPTION:Le championnat par équipe est une compétition largement ouverte à tous les compétiteurs quels que soient leur âge et leur sexe. \nIl se joue en équipe de 3 ou 4 joueurs selon la division. \nOn joue avant tout pour une équipe et pour un club.
URL:https://ajlaboisse.fr/event/championnat-par-equipe-phase-2-7/
ATTACH;FMTTYPE=image/jpeg:https://ajlaboisse.fr/wp-content/uploads/2024/06/Competition_Chpt-equipe-WE-1.jpg
END:VEVENT
BEGIN:VEVENT
DTSTART;VALUE=DATE:20250518
DTEND;VALUE=DATE:20250519
DTSTAMP:20260423T044012
CREATED:20240610T091539Z
LAST-MODIFIED:20240610T091539Z
UID:253-1747526400-1747612799@ajlaboisse.fr
SUMMARY:Championnat Jeunes par équipe
DESCRIPTION:Idéale pour découvrir la compétition car accessible avec la licence loisir seulement\, et elle n’engage à chaque fois que pour un seul dimanche. \nLa compétition est mixte et n’est ouverte qu’aux jeunes (sauf juniors). \nAttention\, ces journées de championnat jeunes par équipe sont les dimanches suivant des samedis de championnat par équipe (voir ci-dessus). Il est possible de cumuler les participations aux deux championnats sur un même week-end. \nCette compétition nécessite que l’on puisse constituer des équipes de 3 joueurs et/ou joueuses pour un dimanche donné.
URL:https://ajlaboisse.fr/event/championnat-jeunes-par-equipe-4/
ATTACH;FMTTYPE=image/jpeg:https://ajlaboisse.fr/wp-content/uploads/2024/06/Competition_CircuitsJeunes-740x337-1.jpg
END:VEVENT
BEGIN:VEVENT
DTSTART;VALUE=DATE:20250529
DTEND;VALUE=DATE:20250530
DTSTAMP:20260423T044012
CREATED:20250522T135120Z
LAST-MODIFIED:20250522T135120Z
UID:6286-1748476800-1748563199@ajlaboisse.fr
SUMMARY:Tournoi de Colombier Saugnieu
DESCRIPTION:
URL:https://ajlaboisse.fr/event/tournoi-de-colombier-saugnieu/
ATTACH;FMTTYPE=image/webp:https://ajlaboisse.fr/wp-content/uploads/2025/05/cac6fbbdee114ddda601db769c698f1d.webp
END:VEVENT
END:VCALENDAR