BEGIN:VCALENDAR
VERSION:2.0
PRODID:-//AJ La Boisse - ECPv6.15.20//NONSGML v1.0//EN
CALSCALE:GREGORIAN
METHOD:PUBLISH
X-WR-CALNAME:AJ La Boisse
X-ORIGINAL-URL:https://ajlaboisse.fr
X-WR-CALDESC:Évènements pour AJ La Boisse
REFRESH-INTERVAL;VALUE=DURATION:PT1H
X-Robots-Tag:noindex
X-PUBLISHED-TTL:PT1H
BEGIN:VTIMEZONE
TZID:Europe/Paris
BEGIN:DAYLIGHT
TZOFFSETFROM:+0100
TZOFFSETTO:+0200
TZNAME:CEST
DTSTART:20240331T010000
END:DAYLIGHT
BEGIN:STANDARD
TZOFFSETFROM:+0200
TZOFFSETTO:+0100
TZNAME:CET
DTSTART:20241027T010000
END:STANDARD
BEGIN:DAYLIGHT
TZOFFSETFROM:+0100
TZOFFSETTO:+0200
TZNAME:CEST
DTSTART:20250330T010000
END:DAYLIGHT
BEGIN:STANDARD
TZOFFSETFROM:+0200
TZOFFSETTO:+0100
TZNAME:CET
DTSTART:20251026T010000
END:STANDARD
BEGIN:DAYLIGHT
TZOFFSETFROM:+0100
TZOFFSETTO:+0200
TZNAME:CEST
DTSTART:20260329T010000
END:DAYLIGHT
BEGIN:STANDARD
TZOFFSETFROM:+0200
TZOFFSETTO:+0100
TZNAME:CET
DTSTART:20261025T010000
END:STANDARD
END:VTIMEZONE
BEGIN:VEVENT
DTSTART;VALUE=DATE:20250825
DTEND;VALUE=DATE:20250830
DTSTAMP:20260423T003341
CREATED:20250501T093316Z
LAST-MODIFIED:20250522T140301Z
UID:6230-1756080000-1756511999@ajlaboisse.fr
SUMMARY:Stage PING ETE
DESCRIPTION:
URL:https://ajlaboisse.fr/event/stage-ping-ete/
LOCATION:Centre Omnisport de Macon\, 389 Av. Maréchal de Lattre de Tassigny\, Macon\, 71000\, France
ATTACH;FMTTYPE=image/webp:https://ajlaboisse.fr/wp-content/uploads/2025/05/affiche-stage-macon-724x1024-1.webp
ORGANIZER;CN="Fabien Lopes":MAILTO:fabien.lopes@catt.fr
END:VEVENT
BEGIN:VEVENT
DTSTART;VALUE=DATE:20250825
DTEND;VALUE=DATE:20250830
DTSTAMP:20260423T003341
CREATED:20250522T134601Z
LAST-MODIFIED:20250522T134601Z
UID:6283-1756080000-1756511999@ajlaboisse.fr
SUMMARY:Stage été CORCY TT
DESCRIPTION:
URL:https://ajlaboisse.fr/event/stage-ete-corcy-tt-2/
ATTACH;FMTTYPE=image/webp:https://ajlaboisse.fr/wp-content/uploads/2025/05/stage-tt-aout2025_page-0001.webp
END:VEVENT
END:VCALENDAR